Package: ideal Version: 1.24.1 Command: /home/biocbuild/bbs-3.17-bioc/R/bin/R CMD build --keep-empty-dirs --no-resave-data ideal StartedAt: 2023-10-15 17:08:24 -0400 (Sun, 15 Oct 2023) EndedAt: 2023-10-15 17:11:06 -0400 (Sun, 15 Oct 2023) EllapsedTime: 161.7 seconds RetCode: 0 Status: OK PackageFile: ideal_1.24.1.tar.gz PackageFileSize: 5.583 MiB