Package: idiogram Version: 1.76.0 Command: /Library/Frameworks/R.framework/Resources/bin/R CMD check --install=check:idiogram.install-out.txt --library=/Library/Frameworks/R.framework/Resources/library --no-vignettes --timings idiogram_1.76.0.tar.gz StartedAt: 2023-10-16 02:48:53 -0400 (Mon, 16 Oct 2023) EndedAt: 2023-10-16 02:53:21 -0400 (Mon, 16 Oct 2023) EllapsedTime: 268.3 seconds RetCode: 0 Status: OK CheckDir: idiogram.Rcheck Warnings: 0