Package: igvR Version: 1.20.0 Command: /Library/Frameworks/R.framework/Resources/bin/R CMD check --install=check:igvR.install-out.txt --library=/Library/Frameworks/R.framework/Resources/library --no-vignettes --timings igvR_1.20.0.tar.gz StartedAt: 2023-10-16 02:50:39 -0400 (Mon, 16 Oct 2023) EndedAt: 2023-10-16 03:02:08 -0400 (Mon, 16 Oct 2023) EllapsedTime: 688.9 seconds RetCode: 0 Status: WARNINGS CheckDir: igvR.Rcheck Warnings: 3