Package: igvR Version: 1.20.0 Command: /home/biocbuild/bbs-3.17-bioc/R/bin/R CMD INSTALL igvR StartedAt: 2023-10-15 15:23:27 -0400 (Sun, 15 Oct 2023) EndedAt: 2023-10-15 15:24:09 -0400 (Sun, 15 Oct 2023) EllapsedTime: 42.1 seconds RetCode: 0 Status: OK