Package: igvR Version: 1.20.0 Command: chmod a+r igvR -R && F:\biocbuild\bbs-3.17-bioc\R\bin\R.exe CMD build --keep-empty-dirs --no-resave-data igvR StartedAt: 2023-10-15 19:54:50 -0400 (Sun, 15 Oct 2023) EndedAt: 2023-10-15 19:56:18 -0400 (Sun, 15 Oct 2023) EllapsedTime: 88.2 seconds RetCode: 0 Status: OK PackageFile: igvR_1.20.0.tar.gz PackageFileSize: 8.592 MiB