Package: imcRtools Version: 1.6.5 Command: /home/biocbuild/bbs-3.17-bioc/R/bin/R CMD build --keep-empty-dirs --no-resave-data imcRtools StartedAt: 2023-10-15 17:09:14 -0400 (Sun, 15 Oct 2023) EndedAt: 2023-10-15 17:12:38 -0400 (Sun, 15 Oct 2023) EllapsedTime: 204.2 seconds RetCode: 0 Status: OK PackageFile: imcRtools_1.6.5.tar.gz PackageFileSize: 5.816 MiB