Package: imcRtools Version: 1.6.5 Command: rm -rf imcRtools.buildbin-libdir && mkdir imcRtools.buildbin-libdir && F:\biocbuild\bbs-3.17-bioc\R\bin\R.exe CMD INSTALL --build --library=imcRtools.buildbin-libdir imcRtools_1.6.5.tar.gz StartedAt: 2023-10-16 08:57:23 -0400 (Mon, 16 Oct 2023) EndedAt: 2023-10-16 08:58:33 -0400 (Mon, 16 Oct 2023) EllapsedTime: 69.9 seconds RetCode: 0 Status: OK PackageFile: imcRtools_1.6.5.zip PackageFileSize: 2.003 MiB