Package: imcRtools Version: 1.6.5 Command: F:\biocbuild\bbs-3.17-bioc\R\bin\R.exe CMD check --no-multiarch --install=check:imcRtools.install-out.txt --library=F:\biocbuild\bbs-3.17-bioc\R\library --no-vignettes --timings imcRtools_1.6.5.tar.gz StartedAt: 2023-10-16 03:11:31 -0400 (Mon, 16 Oct 2023) EndedAt: 2023-10-16 03:22:25 -0400 (Mon, 16 Oct 2023) EllapsedTime: 654.4 seconds RetCode: 0 Status: OK CheckDir: imcRtools.Rcheck Warnings: 0