Package: imcRtools Version: 1.6.5 Command: F:\biocbuild\bbs-3.17-bioc\R\bin\R.exe CMD INSTALL imcRtools StartedAt: 2023-10-15 16:36:54 -0400 (Sun, 15 Oct 2023) EndedAt: 2023-10-15 16:38:03 -0400 (Sun, 15 Oct 2023) EllapsedTime: 69.0 seconds RetCode: 0 Status: OK