Package: interactiveDisplayBase Version: 1.38.0 Command: /Library/Frameworks/R.framework/Resources/bin/R CMD check --install=check:interactiveDisplayBase.install-out.txt --library=/Library/Frameworks/R.framework/Resources/library --no-vignettes --timings interactiveDisplayBase_1.38.0.tar.gz StartedAt: 2023-10-16 02:54:34 -0400 (Mon, 16 Oct 2023) EndedAt: 2023-10-16 02:55:40 -0400 (Mon, 16 Oct 2023) EllapsedTime: 66.1 seconds RetCode: 0 Status: OK CheckDir: interactiveDisplayBase.Rcheck Warnings: 0