git_url: https://git.bioconductor.org/packages/iterativeBMA git_branch: RELEASE_3_17 git_last_commit: a615aca git_last_commit_date: 2023-04-25 09:47:14 -0400 (Tue, 25 Apr 2023) Package: iterativeBMA Version: 1.58.0 Maintainer: Ka Yee Yeung MaintainerEmail: kayee at u.washington.edu