Package: iterativeBMA Version: 1.58.0 Command: rm -rf iterativeBMA.buildbin-libdir && mkdir iterativeBMA.buildbin-libdir && /Users/biocbuild/BBS/utils/build-universal.sh iterativeBMA_1.58.0.tar.gz /Library/Frameworks/R.framework/Resources/bin/R iterativeBMA.buildbin-libdir StartedAt: 2023-10-16 09:36:48 -0400 (Mon, 16 Oct 2023) EndedAt: 2023-10-16 09:37:13 -0400 (Mon, 16 Oct 2023) EllapsedTime: 24.2 seconds RetCode: 0 Status: OK PackageFile: iterativeBMA_1.58.0.tgz PackageFileSize: 213.4 KiB