Package: iterativeBMAsurv Version: 1.58.0 Command: /Library/Frameworks/R.framework/Resources/bin/R CMD build --keep-empty-dirs --no-resave-data iterativeBMAsurv StartedAt: 2023-10-15 19:05:41 -0400 (Sun, 15 Oct 2023) EndedAt: 2023-10-15 19:06:35 -0400 (Sun, 15 Oct 2023) EllapsedTime: 54.1 seconds RetCode: 0 Status: OK PackageFile: iterativeBMAsurv_1.58.0.tar.gz PackageFileSize: 197.5 KiB