Package: iterativeBMAsurv Version: 1.58.0 Command: /home/biocbuild/bbs-3.17-bioc/R/bin/R CMD build --keep-empty-dirs --no-resave-data iterativeBMAsurv StartedAt: 2023-10-15 17:13:37 -0400 (Sun, 15 Oct 2023) EndedAt: 2023-10-15 17:13:54 -0400 (Sun, 15 Oct 2023) EllapsedTime: 17.2 seconds RetCode: 0 Status: OK PackageFile: iterativeBMAsurv_1.58.0.tar.gz PackageFileSize: 197.6 KiB