Package: ivygapSE Version: 1.22.1 Command: rm -rf ivygapSE.buildbin-libdir && mkdir ivygapSE.buildbin-libdir && /Users/biocbuild/BBS/utils/build-universal.sh ivygapSE_1.22.1.tar.gz /Library/Frameworks/R.framework/Resources/bin/R ivygapSE.buildbin-libdir StartedAt: 2023-10-16 09:36:54 -0400 (Mon, 16 Oct 2023) EndedAt: 2023-10-16 09:38:16 -0400 (Mon, 16 Oct 2023) EllapsedTime: 82.5 seconds RetCode: 0 Status: OK PackageFile: ivygapSE_1.22.1.tgz PackageFileSize: 15.45 MiB