Package: ivygapSE Version: 1.22.1 Command: /Library/Frameworks/R.framework/Resources/bin/R CMD check --install=check:ivygapSE.install-out.txt --library=/Library/Frameworks/R.framework/Resources/library --no-vignettes --timings ivygapSE_1.22.1.tar.gz StartedAt: 2023-10-16 03:06:17 -0400 (Mon, 16 Oct 2023) EndedAt: 2023-10-16 03:14:27 -0400 (Mon, 16 Oct 2023) EllapsedTime: 489.3 seconds RetCode: 0 Status: OK CheckDir: ivygapSE.Rcheck Warnings: 0