Package: ivygapSE Version: 1.22.1 Command: F:\biocbuild\bbs-3.17-bioc\R\bin\R.exe CMD INSTALL ivygapSE StartedAt: 2023-10-15 16:57:21 -0400 (Sun, 15 Oct 2023) EndedAt: 2023-10-15 16:57:49 -0400 (Sun, 15 Oct 2023) EllapsedTime: 28.0 seconds RetCode: 0 Status: OK