Package: ldblock Version: 1.30.0 Command: /Library/Frameworks/R.framework/Resources/bin/R CMD check --install=check:ldblock.install-out.txt --library=/Library/Frameworks/R.framework/Resources/library --no-vignettes --timings ldblock_1.30.0.tar.gz StartedAt: 2023-10-16 03:10:59 -0400 (Mon, 16 Oct 2023) EndedAt: 2023-10-16 03:14:36 -0400 (Mon, 16 Oct 2023) EllapsedTime: 217.5 seconds RetCode: 0 Status: OK CheckDir: ldblock.Rcheck Warnings: 0