Package: les Version: 1.50.0 Command: /Library/Frameworks/R.framework/Resources/bin/R CMD check --install=check:les.install-out.txt --library=/Library/Frameworks/R.framework/Resources/library --no-vignettes --timings les_1.50.0.tar.gz StartedAt: 2023-10-16 03:11:59 -0400 (Mon, 16 Oct 2023) EndedAt: 2023-10-16 03:14:09 -0400 (Mon, 16 Oct 2023) EllapsedTime: 130.3 seconds RetCode: 0 Status: OK CheckDir: les.Rcheck Warnings: 0