Package: les Version: 1.50.0 Command: chmod a+r les -R && F:\biocbuild\bbs-3.17-bioc\R\bin\R.exe CMD build --keep-empty-dirs --no-resave-data les StartedAt: 2023-10-15 20:04:52 -0400 (Sun, 15 Oct 2023) EndedAt: 2023-10-15 20:05:17 -0400 (Sun, 15 Oct 2023) EllapsedTime: 25.6 seconds RetCode: 0 Status: OK PackageFile: les_1.50.0.tar.gz PackageFileSize: 345.9 KiB