Package: levi Version: 1.18.0 Command: rm -rf levi.buildbin-libdir && mkdir levi.buildbin-libdir && /Users/biocbuild/BBS/utils/build-universal.sh levi_1.18.0.tar.gz /Library/Frameworks/R.framework/Resources/bin/R levi.buildbin-libdir StartedAt: 2023-10-16 09:37:36 -0400 (Mon, 16 Oct 2023) EndedAt: 2023-10-16 09:39:02 -0400 (Mon, 16 Oct 2023) EllapsedTime: 85.9 seconds RetCode: 0 Status: OK PackageFile: levi_1.18.0.tgz PackageFileSize: 2.333 MiB