Package: levi Version: 1.18.0 Command: chmod a+r levi -R && F:\biocbuild\bbs-3.17-bioc\R\bin\R.exe CMD build --keep-empty-dirs --no-resave-data levi StartedAt: 2023-10-15 20:04:54 -0400 (Sun, 15 Oct 2023) EndedAt: 2023-10-15 20:06:50 -0400 (Sun, 15 Oct 2023) EllapsedTime: 116.7 seconds RetCode: 0 Status: OK PackageFile: levi_1.18.0.tar.gz PackageFileSize: 2.684 MiB