Package: levi Version: 1.18.0 Command: F:\biocbuild\bbs-3.17-bioc\R\bin\R.exe CMD check --no-multiarch --install=check:levi.install-out.txt --library=F:\biocbuild\bbs-3.17-bioc\R\library --no-vignettes --timings levi_1.18.0.tar.gz StartedAt: 2023-10-16 03:30:17 -0400 (Mon, 16 Oct 2023) EndedAt: 2023-10-16 03:31:47 -0400 (Mon, 16 Oct 2023) EllapsedTime: 90.0 seconds RetCode: 0 Status: OK CheckDir: levi.Rcheck Warnings: 0