Package: lionessR Version: 1.14.0 Command: F:\biocbuild\bbs-3.17-bioc\R\bin\R.exe CMD INSTALL lionessR StartedAt: 2023-10-15 15:58:51 -0400 (Sun, 15 Oct 2023) EndedAt: 2023-10-15 15:58:57 -0400 (Sun, 15 Oct 2023) EllapsedTime: 6.0 seconds RetCode: 0 Status: OK