Package: lipidr Version: 2.14.1 Command: /Library/Frameworks/R.framework/Resources/bin/R CMD build --keep-empty-dirs --no-resave-data lipidr StartedAt: 2023-10-15 19:10:08 -0400 (Sun, 15 Oct 2023) EndedAt: 2023-10-15 19:12:14 -0400 (Sun, 15 Oct 2023) EllapsedTime: 126.3 seconds RetCode: 0 Status: OK PackageFile: lipidr_2.14.1.tar.gz PackageFileSize: 3.086 MiB