Package: lipidr Version: 2.14.1 Command: /Library/Frameworks/R.framework/Resources/bin/R CMD check --install=check:lipidr.install-out.txt --library=/Library/Frameworks/R.framework/Resources/library --no-vignettes --timings lipidr_2.14.1.tar.gz StartedAt: 2023-10-16 03:14:39 -0400 (Mon, 16 Oct 2023) EndedAt: 2023-10-16 03:26:03 -0400 (Mon, 16 Oct 2023) EllapsedTime: 684.5 seconds RetCode: 0 Status: OK CheckDir: lipidr.Rcheck Warnings: 0