Package: lipidr Version: 2.14.1 Command: /Library/Frameworks/R.framework/Resources/bin/R CMD INSTALL lipidr StartedAt: 2023-10-15 16:16:39 -0400 (Sun, 15 Oct 2023) EndedAt: 2023-10-15 16:18:07 -0400 (Sun, 15 Oct 2023) EllapsedTime: 87.7 seconds RetCode: 0 Status: OK