Package: lisaClust Version: 1.8.2 Command: /Library/Frameworks/R.framework/Resources/bin/R CMD build --keep-empty-dirs --no-resave-data lisaClust StartedAt: 2023-10-15 19:10:29 -0400 (Sun, 15 Oct 2023) EndedAt: 2023-10-15 19:13:59 -0400 (Sun, 15 Oct 2023) EllapsedTime: 209.3 seconds RetCode: 0 Status: OK PackageFile: lisaClust_1.8.2.tar.gz PackageFileSize: 2.444 MiB