Package: lisaClust Version: 1.8.2 Command: rm -rf lisaClust.buildbin-libdir && mkdir lisaClust.buildbin-libdir && F:\biocbuild\bbs-3.17-bioc\R\bin\R.exe CMD INSTALL --build --library=lisaClust.buildbin-libdir lisaClust_1.8.2.tar.gz StartedAt: 2023-10-16 09:00:33 -0400 (Mon, 16 Oct 2023) EndedAt: 2023-10-16 09:01:17 -0400 (Mon, 16 Oct 2023) EllapsedTime: 43.8 seconds RetCode: 0 Status: OK PackageFile: lisaClust_1.8.2.zip PackageFileSize: 907.2 KiB