Package: lisaClust Version: 1.8.2 Command: chmod a+r lisaClust -R && F:\biocbuild\bbs-3.17-bioc\R\bin\R.exe CMD build --keep-empty-dirs --no-resave-data lisaClust StartedAt: 2023-10-15 20:06:21 -0400 (Sun, 15 Oct 2023) EndedAt: 2023-10-15 20:08:06 -0400 (Sun, 15 Oct 2023) EllapsedTime: 105.0 seconds RetCode: 0 Status: OK PackageFile: lisaClust_1.8.2.tar.gz PackageFileSize: 826.1 KiB