Package: lisaClust Version: 1.8.2 Command: F:\biocbuild\bbs-3.17-bioc\R\bin\R.exe CMD check --no-multiarch --install=check:lisaClust.install-out.txt --library=F:\biocbuild\bbs-3.17-bioc\R\library --no-vignettes --timings lisaClust_1.8.2.tar.gz StartedAt: 2023-10-16 03:32:09 -0400 (Mon, 16 Oct 2023) EndedAt: 2023-10-16 03:36:20 -0400 (Mon, 16 Oct 2023) EllapsedTime: 250.2 seconds RetCode: 0 Status: OK CheckDir: lisaClust.Rcheck Warnings: 0