Package: lisaClust Version: 1.8.2 Command: F:\biocbuild\bbs-3.17-bioc\R\bin\R.exe CMD INSTALL lisaClust StartedAt: 2023-10-15 16:59:34 -0400 (Sun, 15 Oct 2023) EndedAt: 2023-10-15 17:00:14 -0400 (Sun, 15 Oct 2023) EllapsedTime: 40.4 seconds RetCode: 0 Status: OK