Package: logitT Version: 1.58.0 Command: rm -rf logitT.buildbin-libdir && mkdir logitT.buildbin-libdir && F:\biocbuild\bbs-3.17-bioc\R\bin\R.exe CMD INSTALL --build --library=logitT.buildbin-libdir logitT_1.58.0.tar.gz StartedAt: 2023-10-16 09:00:43 -0400 (Mon, 16 Oct 2023) EndedAt: 2023-10-16 09:00:54 -0400 (Mon, 16 Oct 2023) EllapsedTime: 11.0 seconds RetCode: 0 Status: OK PackageFile: logitT_1.58.0.zip PackageFileSize: 182 KiB