Package: logitT Version: 1.58.0 Command: chmod a+r logitT -R && F:\biocbuild\bbs-3.17-bioc\R\bin\R.exe CMD build --keep-empty-dirs --no-resave-data logitT StartedAt: 2023-10-15 20:06:52 -0400 (Sun, 15 Oct 2023) EndedAt: 2023-10-15 20:07:13 -0400 (Sun, 15 Oct 2023) EllapsedTime: 20.7 seconds RetCode: 0 Status: OK PackageFile: logitT_1.58.0.tar.gz PackageFileSize: 166.8 KiB