Package: macat Version: 1.74.0 Command: /home/biocbuild/bbs-3.17-bioc/R/bin/R CMD build --keep-empty-dirs --no-resave-data macat StartedAt: 2023-10-15 17:17:01 -0400 (Sun, 15 Oct 2023) EndedAt: 2023-10-15 17:17:22 -0400 (Sun, 15 Oct 2023) EllapsedTime: 21.8 seconds RetCode: 0 Status: OK PackageFile: macat_1.74.0.tar.gz PackageFileSize: 997.7 KiB