Package: macat Version: 1.74.0 Command: /home/biocbuild/bbs-3.17-bioc/R/bin/R CMD check --install=check:macat.install-out.txt --library=/home/biocbuild/bbs-3.17-bioc/R/site-library --timings macat_1.74.0.tar.gz StartedAt: 2023-10-15 22:26:14 -0400 (Sun, 15 Oct 2023) EndedAt: 2023-10-15 22:28:00 -0400 (Sun, 15 Oct 2023) EllapsedTime: 106.3 seconds RetCode: 0 Status: OK CheckDir: macat.Rcheck Warnings: 0