Package: made4 Version: 1.74.0 Command: /Library/Frameworks/R.framework/Resources/bin/R CMD build --keep-empty-dirs --no-resave-data made4 StartedAt: 2023-10-15 19:12:38 -0400 (Sun, 15 Oct 2023) EndedAt: 2023-10-15 19:14:13 -0400 (Sun, 15 Oct 2023) EllapsedTime: 94.3 seconds RetCode: 0 Status: OK PackageFile: made4_1.74.0.tar.gz PackageFileSize: 2.402 MiB