Package: made4 Version: 1.74.0 Command: /Library/Frameworks/R.framework/Resources/bin/R CMD INSTALL made4 StartedAt: 2023-10-15 15:13:45 -0400 (Sun, 15 Oct 2023) EndedAt: 2023-10-15 15:15:00 -0400 (Sun, 15 Oct 2023) EllapsedTime: 74.4 seconds RetCode: 0 Status: OK