Package: made4 Version: 1.74.0 Command: chmod a+r made4 -R && F:\biocbuild\bbs-3.17-bioc\R\bin\R.exe CMD build --keep-empty-dirs --no-resave-data made4 StartedAt: 2023-10-15 20:08:32 -0400 (Sun, 15 Oct 2023) EndedAt: 2023-10-15 20:09:13 -0400 (Sun, 15 Oct 2023) EllapsedTime: 41.2 seconds RetCode: 0 Status: OK PackageFile: made4_1.74.0.tar.gz PackageFileSize: 1.623 MiB