Package: makecdfenv Version: 1.76.0 Command: /home/biocbuild/bbs-3.17-bioc/R/bin/R CMD INSTALL makecdfenv StartedAt: 2023-10-15 15:09:06 -0400 (Sun, 15 Oct 2023) EndedAt: 2023-10-15 15:09:15 -0400 (Sun, 15 Oct 2023) EllapsedTime: 9.4 seconds RetCode: 0 Status: OK