Package: martini Version: 1.20.0 Command: rm -rf martini.buildbin-libdir && mkdir martini.buildbin-libdir && /Users/biocbuild/BBS/utils/build-universal.sh martini_1.20.0.tar.gz /Library/Frameworks/R.framework/Resources/bin/R martini.buildbin-libdir StartedAt: 2023-10-16 09:39:44 -0400 (Mon, 16 Oct 2023) EndedAt: 2023-10-16 09:41:04 -0400 (Mon, 16 Oct 2023) EllapsedTime: 80.0 seconds RetCode: 0 Status: OK PackageFile: martini_1.20.0.tgz PackageFileSize: 695.8 KiB