Package: martini Version: 1.20.0 Command: /Library/Frameworks/R.framework/Resources/bin/R CMD INSTALL martini StartedAt: 2023-10-15 16:09:41 -0400 (Sun, 15 Oct 2023) EndedAt: 2023-10-15 16:10:55 -0400 (Sun, 15 Oct 2023) EllapsedTime: 73.3 seconds RetCode: 0 Status: OK