Package: maskBAD Version: 1.44.0 Command: rm -rf maskBAD.buildbin-libdir && mkdir maskBAD.buildbin-libdir && /Users/biocbuild/BBS/utils/build-universal.sh maskBAD_1.44.0.tar.gz /Library/Frameworks/R.framework/Resources/bin/R maskBAD.buildbin-libdir StartedAt: 2023-10-16 09:39:46 -0400 (Mon, 16 Oct 2023) EndedAt: 2023-10-16 09:40:31 -0400 (Mon, 16 Oct 2023) EllapsedTime: 45.0 seconds RetCode: 0 Status: OK PackageFile: maskBAD_1.44.0.tgz PackageFileSize: 1.586 MiB