Package: maskBAD Version: 1.44.0 Command: /home/biocbuild/bbs-3.17-bioc/R/bin/R CMD check --install=check:maskBAD.install-out.txt --library=/home/biocbuild/bbs-3.17-bioc/R/site-library --timings maskBAD_1.44.0.tar.gz StartedAt: 2023-10-15 22:29:38 -0400 (Sun, 15 Oct 2023) EndedAt: 2023-10-15 22:32:53 -0400 (Sun, 15 Oct 2023) EllapsedTime: 195.0 seconds RetCode: 0 Status: OK CheckDir: maskBAD.Rcheck Warnings: 0