Package: mdp Version: 1.20.0 Command: rm -rf mdp.buildbin-libdir && mkdir mdp.buildbin-libdir && /Users/biocbuild/BBS/utils/build-universal.sh mdp_1.20.0.tar.gz /Library/Frameworks/R.framework/Resources/bin/R mdp.buildbin-libdir StartedAt: 2023-10-16 09:40:25 -0400 (Mon, 16 Oct 2023) EndedAt: 2023-10-16 09:40:40 -0400 (Mon, 16 Oct 2023) EllapsedTime: 14.8 seconds RetCode: 0 Status: OK PackageFile: mdp_1.20.0.tgz PackageFileSize: 4.331 MiB