Package: mdp Version: 1.20.0 Command: rm -rf mdp.buildbin-libdir && mkdir mdp.buildbin-libdir && F:\biocbuild\bbs-3.17-bioc\R\bin\R.exe CMD INSTALL --build --library=mdp.buildbin-libdir mdp_1.20.0.tar.gz StartedAt: 2023-10-16 09:02:34 -0400 (Mon, 16 Oct 2023) EndedAt: 2023-10-16 09:02:44 -0400 (Mon, 16 Oct 2023) EllapsedTime: 9.7 seconds RetCode: 0 Status: OK PackageFile: mdp_1.20.0.zip PackageFileSize: 4.122 MiB