Package: megadepth Version: 1.10.0 Command: /Library/Frameworks/R.framework/Resources/bin/R CMD check --install=check:megadepth.install-out.txt --library=/Library/Frameworks/R.framework/Resources/library --no-vignettes --timings megadepth_1.10.0.tar.gz StartedAt: 2023-10-16 03:32:57 -0400 (Mon, 16 Oct 2023) EndedAt: 2023-10-16 03:37:33 -0400 (Mon, 16 Oct 2023) EllapsedTime: 276.2 seconds RetCode: 0 Status: OK CheckDir: megadepth.Rcheck Warnings: 0