Package: megadepth Version: 1.10.0 Command: rm -rf megadepth.buildbin-libdir && mkdir megadepth.buildbin-libdir && F:\biocbuild\bbs-3.17-bioc\R\bin\R.exe CMD INSTALL --build --library=megadepth.buildbin-libdir megadepth_1.10.0.tar.gz StartedAt: 2023-10-16 09:02:49 -0400 (Mon, 16 Oct 2023) EndedAt: 2023-10-16 09:03:05 -0400 (Mon, 16 Oct 2023) EllapsedTime: 16.4 seconds RetCode: 0 Status: OK PackageFile: megadepth_1.10.0.zip PackageFileSize: 492.5 KiB