Package: megadepth Version: 1.10.0 Command: chmod a+r megadepth -R && F:\biocbuild\bbs-3.17-bioc\R\bin\R.exe CMD build --keep-empty-dirs --no-resave-data megadepth StartedAt: 2023-10-15 20:14:43 -0400 (Sun, 15 Oct 2023) EndedAt: 2023-10-15 20:15:24 -0400 (Sun, 15 Oct 2023) EllapsedTime: 41.4 seconds RetCode: 0 Status: OK PackageFile: megadepth_1.10.0.tar.gz PackageFileSize: 465.9 KiB