Package: metaSeq Version: 1.40.0 Command: chmod a+r metaSeq -R && F:\biocbuild\bbs-3.17-bioc\R\bin\R.exe CMD build --keep-empty-dirs --no-resave-data metaSeq StartedAt: 2023-10-15 20:18:13 -0400 (Sun, 15 Oct 2023) EndedAt: 2023-10-15 20:18:31 -0400 (Sun, 15 Oct 2023) EllapsedTime: 18.1 seconds RetCode: 0 Status: OK PackageFile: metaSeq_1.40.0.tar.gz PackageFileSize: 6.084 MiB